Package: DEXSeq Version: 1.47.0 Command: /home/hpages/bbs-3.18-bioc/R/bin/R CMD INSTALL DEXSeq StartedAt: 2023-06-01 12:26:15 -0700 (Thu, 01 Jun 2023) EndedAt: 2023-06-01 12:26:54 -0700 (Thu, 01 Jun 2023) EllapsedTime: 38.5 seconds RetCode: 0 Status: OK