Package: DEXSeq Version: 1.48.0 Command: /home/hpages/bbs-3.18-bioc-R41/R/bin/R CMD build --keep-empty-dirs --no-resave-data DEXSeq StartedAt: 2024-03-08 15:43:32 -0500 (Fri, 08 Mar 2024) EndedAt: 2024-03-08 15:45:56 -0500 (Fri, 08 Mar 2024) EllapsedTime: 143.9 seconds RetCode: 0 Status: OK PackageFile: DEXSeq_1.48.0.tar.gz PackageFileSize: 1.54 MiB