Package: Biostrings Version: 2.69.1 Command: /home/hpages/bbs-3.18-bioc/R/bin/R CMD INSTALL Biostrings StartedAt: 2023-06-01 12:22:01 -0700 (Thu, 01 Jun 2023) EndedAt: 2023-06-01 12:22:42 -0700 (Thu, 01 Jun 2023) EllapsedTime: 41.2 seconds RetCode: 0 Status: OK