Package: Biostrings Version: 2.70.2 Command: /home/hpages/bbs-3.18-bioc-R41/R/bin/R CMD INSTALL Biostrings StartedAt: 2024-03-08 15:30:23 -0500 (Fri, 08 Mar 2024) EndedAt: 2024-03-08 15:30:54 -0500 (Fri, 08 Mar 2024) EllapsedTime: 31.7 seconds RetCode: 0 Status: OK