Package: BiocVersion Version: 3.18.0 Command: /home/hpages/bbs-3.18-bioc/R/bin/R CMD INSTALL BiocVersion StartedAt: 2023-06-01 12:21:19 -0700 (Thu, 01 Jun 2023) EndedAt: 2023-06-01 12:21:21 -0700 (Thu, 01 Jun 2023) EllapsedTime: 2.0 seconds RetCode: 0 Status: OK