Package: BiocVersion Version: 3.18.0 Command: /home/hpages/bbs-3.18-bioc/R/bin/R CMD build --keep-empty-dirs --no-resave-data BiocVersion StartedAt: 2023-06-01 12:37:13 -0700 (Thu, 01 Jun 2023) EndedAt: 2023-06-01 12:37:14 -0700 (Thu, 01 Jun 2023) EllapsedTime: 1.0 seconds RetCode: 0 Status: OK PackageFile: BiocVersion_3.18.0.tar.gz PackageFileSize: 965 bytes