Package: BiocCheck Version: 1.39.0 Command: /home/biocbuild/bbs-3.18-bioc/R/bin/Rscript -e "BiocCheck::BiocCheck('BiocCheck_1.39.0.tar.gz')" StartedAt: 2023-10-24 10:46:02 -0400 (Tue, 24 Oct 2023) EndedAt: 2023-10-24 10:46:31 -0400 (Tue, 24 Oct 2023) EllapsedTime: 28.9 seconds RetCode: None Status: OK Warnings: 0