Package: AnnotationHub Version: 3.9.1 Command: /home/hpages/bbs-3.18-bioc/R/bin/R CMD INSTALL AnnotationHub StartedAt: 2023-06-01 12:25:48 -0700 (Thu, 01 Jun 2023) EndedAt: 2023-06-01 12:26:09 -0700 (Thu, 01 Jun 2023) EllapsedTime: 21.0 seconds RetCode: 0 Status: OK