Package: AnnotationForge Version: 1.43.0 Command: /home/hpages/bbs-3.18-bioc/R/bin/R CMD build --keep-empty-dirs --no-resave-data AnnotationForge StartedAt: 2023-06-01 12:35:38 -0700 (Thu, 01 Jun 2023) EndedAt: 2023-06-01 12:39:07 -0700 (Thu, 01 Jun 2023) EllapsedTime: 209.1 seconds RetCode: 0 Status: OK PackageFile: AnnotationForge_1.43.0.tar.gz PackageFileSize: 3.761 MiB