Package: AnnotationDbi Version: 1.63.1 Command: /home/hpages/bbs-3.18-bioc/R/bin/R CMD build --keep-empty-dirs --no-resave-data AnnotationDbi StartedAt: 2023-06-01 12:35:38 -0700 (Thu, 01 Jun 2023) EndedAt: 2023-06-01 12:36:46 -0700 (Thu, 01 Jun 2023) EllapsedTime: 68.0 seconds RetCode: 0 Status: OK PackageFile: AnnotationDbi_1.63.1.tar.gz PackageFileSize: 4.171 MiB