All our mirrors of open source software are available via http, https, ftp and an onion service. More information about our mirrors including statistics and contact information is available on our mirror info pages.
For information about dotsrc.org and our other services please go to our website.
| File Name ↓ | File Size ↓ | Date ↓ |
|---|---|---|
| Parent directory/ | - | - |
| AnnotationDbi/ | - | 2024-03-08 21:41:47 |
| AnnotationFilter/ | - | 2024-03-08 21:41:47 |
| AnnotationForge/ | - | 2024-03-08 21:41:47 |
| AnnotationHub/ | - | 2024-03-08 21:41:47 |
| BSgenome/ | - | 2024-03-08 21:41:48 |
| BSgenomeForge/ | - | 2024-03-08 21:41:48 |
| Biobase/ | - | 2024-03-08 21:41:47 |
| BiocBaseUtils/ | - | 2024-03-08 21:41:47 |
| BiocCheck/ | - | 2024-03-08 21:41:47 |
| BiocFileCache/ | - | 2024-03-08 21:41:47 |
| BiocGenerics/ | - | 2024-03-08 21:41:47 |
| BiocIO/ | - | 2024-03-08 21:41:47 |
| BiocNeighbors/ | - | 2024-03-08 21:41:47 |
| BiocParallel/ | - | 2024-03-08 21:41:47 |
| BiocSingular/ | - | 2024-03-08 21:41:47 |
| BiocStyle/ | - | 2024-03-08 21:41:47 |
| BiocVersion/ | - | 2024-03-08 21:41:47 |
| Biostrings/ | - | 2024-03-08 21:41:47 |
| ComplexHeatmap/ | - | 2024-03-08 21:41:48 |
| DESeq/ | - | 2023-06-01 22:17:19 |
| DESeq2/ | - | 2024-03-08 21:41:48 |
| DEXSeq/ | - | 2024-03-08 21:41:48 |
| DOSE/ | - | 2024-03-08 21:41:48 |
| DelayedArray/ | - | 2024-03-08 21:41:48 |
| DelayedMatrixStats/ | - | 2024-03-08 21:41:48 |
| DynDoc/ | - | 2023-10-24 15:15:02 |
| ExperimentHub/ | - | 2024-03-08 21:41:48 |
| GEOquery/ | - | 2024-03-08 21:41:48 |
| GOSemSim/ | - | 2024-03-08 21:41:48 |
| GenomeInfoDb/ | - | 2024-03-08 21:41:48 |
| GenomicAlignments/ | - | 2024-03-08 21:41:48 |
| GenomicFeatures/ | - | 2024-03-08 21:41:48 |
| GenomicRanges/ | - | 2024-03-08 21:41:48 |
| Gviz/ | - | 2024-03-08 21:41:48 |
| HDF5Array/ | - | 2024-03-08 21:41:48 |
| IRanges/ | - | 2024-03-08 21:41:48 |
| KEGGREST/ | - | 2024-03-08 21:41:48 |
| KEGGgraph/ | - | 2024-03-08 21:41:48 |
| MSnbase/ | - | 2024-03-08 21:41:48 |
| MatrixGenerics/ | - | 2024-03-08 21:41:48 |
| MsCoreUtils/ | - | 2024-03-08 21:41:48 |
| OrganismDbi/ | - | 2024-03-08 21:41:48 |
| ProtGenerics/ | - | 2024-03-08 21:41:48 |
| RBGL/ | - | 2024-03-08 21:41:48 |
| ROC/ | - | 2024-03-08 21:41:48 |
| RProtoBufLib/ | - | 2024-03-08 21:41:48 |
| Rdisop/ | - | 2024-03-08 21:41:48 |
| ResidualMatrix/ | - | 2024-03-08 21:41:48 |
| Rgraphviz/ | - | 2024-03-08 21:41:48 |
| Rhdf5lib/ | - | 2024-03-08 21:41:48 |
| Rhtslib/ | - | 2024-03-08 21:41:48 |
| Rsamtools/ | - | 2024-03-08 21:41:48 |
| Rsubread/ | - | 2024-03-08 21:41:48 |
| S4Arrays/ | - | 2024-03-08 21:41:48 |
| S4Vectors/ | - | 2024-03-08 21:41:48 |
| SPIA/ | - | 2024-03-08 21:41:48 |
| ScaledMatrix/ | - | 2024-03-08 21:41:48 |
| ShortRead/ | - | 2024-03-08 21:41:48 |
| SingleCellExperiment/ | - | 2024-03-08 21:41:48 |
| SparseArray/ | - | 2024-03-08 21:41:48 |
| SummarizedExperiment/ | - | 2024-03-08 21:41:48 |
| VariantAnnotation/ | - | 2024-03-08 21:41:48 |
| XVector/ | - | 2024-03-08 21:41:48 |
| affxparser/ | - | 2024-03-08 21:41:47 |
| affy/ | - | 2024-03-08 21:41:47 |
| affyPLM/ | - | 2024-03-08 21:41:47 |
| affyio/ | - | 2024-03-08 21:41:47 |
| annotate/ | - | 2024-03-08 21:41:47 |
| apeglm/ | - | 2024-03-08 21:41:47 |
| basilisk/ | - | 2024-03-08 21:41:47 |
| basilisk.utils/ | - | 2024-03-08 21:41:47 |
| beachmat/ | - | 2024-03-08 21:41:47 |
| biocViews/ | - | 2024-03-08 21:41:47 |
| biomaRt/ | - | 2024-03-08 21:41:47 |
| biovizBase/ | - | 2024-03-08 21:41:47 |
| clusterProfiler/ | - | 2024-03-08 21:41:48 |
| csaw/ | - | 2024-03-08 21:41:48 |
| cytolib/ | - | 2024-03-08 21:41:48 |
| dir.expiry/ | - | 2024-03-08 21:41:48 |
| edgeR/ | - | 2024-03-08 21:41:48 |
| eds/ | - | 2024-03-08 21:41:48 |
| enrichplot/ | - | 2024-03-08 21:41:48 |
| ensembldb/ | - | 2024-03-08 21:41:48 |
| fgsea/ | - | 2024-03-08 21:41:48 |
| fishpond/ | - | 2024-03-08 21:41:48 |
| flowCore/ | - | 2024-03-08 21:41:48 |
| gcrma/ | - | 2024-03-08 21:41:48 |
| gdsfmt/ | - | 2024-03-08 21:41:48 |
| genefilter/ | - | 2024-03-08 21:41:48 |
| geneplotter/ | - | 2024-03-08 21:41:48 |
| ggbio/ | - | 2024-03-08 21:41:48 |
| ggtree/ | - | 2024-03-08 21:41:48 |
| glmGamPoi/ | - | 2024-03-08 21:41:48 |
| graph/ | - | 2024-03-08 21:41:48 |
| illuminaio/ | - | 2024-03-08 21:41:48 |
| impute/ | - | 2024-03-08 21:41:48 |
| interactiveDisplayBase/ | - | 2024-03-08 21:41:48 |
| limma/ | - | 2024-03-08 21:41:48 |
| metapod/ | - | 2024-03-08 21:41:48 |
| microRNA/ | - | 2024-03-08 21:41:48 |
| multtest/ | - | 2024-03-08 21:41:48 |
| mzID/ | - | 2024-03-08 21:41:48 |
| mzR/ | - | 2024-03-08 21:41:48 |
| nem/ | - | 2023-06-01 22:17:19 |
| pcaMethods/ | - | 2024-03-08 21:41:48 |
| preprocessCore/ | - | 2024-03-08 21:41:48 |
| qvalue/ | - | 2024-03-08 21:41:48 |
| rBiopaxParser/ | - | 2024-03-08 21:41:48 |
| rhdf5/ | - | 2024-03-08 21:41:48 |
| rhdf5filters/ | - | 2024-03-08 21:41:48 |
| rtracklayer/ | - | 2024-03-08 21:41:48 |
| scuttle/ | - | 2024-03-08 21:41:48 |
| snpStats/ | - | 2024-03-08 21:41:48 |
| sparseMatrixStats/ | - | 2024-03-08 21:41:48 |
| tkWidgets/ | - | 2023-10-24 15:15:02 |
| treeio/ | - | 2024-03-08 21:41:48 |
| tximeta/ | - | 2024-03-08 21:41:48 |
| tximport/ | - | 2024-03-08 21:41:48 |
| vsn/ | - | 2024-03-08 21:41:48 |
| widgetTools/ | - | 2024-03-08 21:41:48 |
| zellkonverter/ | - | 2024-03-08 21:41:48 |
| zlibbioc/ | - | 2024-03-08 21:41:48 |
| 120px-Blue_Light_Icon.svg.png | 7.1 KiB | 2024-03-08 21:41:47 |
| 120px-Green_Light_Icon.svg.png | 7.1 KiB | 2024-03-08 21:41:47 |
| 120px-Red_Light_Icon.svg.png | 7.0 KiB | 2024-03-08 21:41:47 |
| BUILD_STATUS_DB.txt | 11.7 KiB | 2024-03-08 21:41:47 |
| DEVEL3b.png | 2.6 KiB | 2024-03-08 21:41:47 |
| Renviron.bioc | 3.1 KiB | 2024-03-08 21:41:47 |
| index.html | 134.5 KiB | 2024-03-08 21:41:48 |
| meat-index.dcf | 12.8 KiB | 2024-03-08 21:41:47 |
| nebbiolo2-NodeInfo.html | 6.8 KiB | 2024-03-08 21:41:47 |
| nebbiolo2-R-instpkgs.html | 70.0 KiB | 2024-03-08 21:41:47 |
| report.css | 10.5 KiB | 2024-03-08 21:41:47 |
| report.js | 6.0 KiB | 2024-03-08 21:41:47 |
| report.tgz | 2.9 MiB | 2024-03-08 21:41:49 |
| skipped-index.dcf | 0 B | 2024-03-08 21:41:47 |
| xps15-NodeInfo.html | 6.8 KiB | 2023-06-01 22:17:19 |
| xps15-R-instpkgs.html | 55.6 KiB | 2023-06-01 22:17:19 |