Package: zlibbioc Version: 1.48.2 Command: /Library/Frameworks/R.framework/Resources/bin/R CMD check --install=check:zlibbioc.install-out.txt --library=/Library/Frameworks/R.framework/Resources/library --no-vignettes --timings zlibbioc_1.48.2.tar.gz StartedAt: 2024-04-18 07:58:27 -0400 (Thu, 18 Apr 2024) EndedAt: 2024-04-18 07:58:50 -0400 (Thu, 18 Apr 2024) EllapsedTime: 22.6 seconds RetCode: 0 Status: OK CheckDir: zlibbioc.Rcheck Warnings: 0