Package: zenith Version: 1.4.2 Command: /Library/Frameworks/R.framework/Resources/bin/R CMD build --keep-empty-dirs --no-resave-data zenith StartedAt: 2024-04-17 04:57:47 -0400 (Wed, 17 Apr 2024) EndedAt: 2024-04-17 04:59:31 -0400 (Wed, 17 Apr 2024) EllapsedTime: 104.1 seconds RetCode: 0 Status: OK PackageFile: zenith_1.4.2.tar.gz PackageFileSize: 7.169 MiB