Package: zellkonverter Version: 1.12.1 Command: /Library/Frameworks/R.framework/Resources/bin/R CMD INSTALL zellkonverter StartedAt: 2024-04-16 10:24:11 -0400 (Tue, 16 Apr 2024) EndedAt: 2024-04-16 10:24:36 -0400 (Tue, 16 Apr 2024) EllapsedTime: 25.2 seconds RetCode: 0 Status: OK