Package: zellkonverter Version: 1.12.1 Command: /Library/Frameworks/R.framework/Resources/bin/R CMD build --keep-empty-dirs --no-resave-data zellkonverter StartedAt: 2024-04-17 04:56:58 -0400 (Wed, 17 Apr 2024) EndedAt: 2024-04-17 04:58:40 -0400 (Wed, 17 Apr 2024) EllapsedTime: 102.1 seconds RetCode: 0 Status: OK PackageFile: zellkonverter_1.12.1.tar.gz PackageFileSize: 1.126 MiB