Package: zellkonverter Version: 1.12.1 Command: rm -rf zellkonverter.buildbin-libdir && mkdir zellkonverter.buildbin-libdir && /Users/biocbuild/BBS/utils/build-universal.sh zellkonverter_1.12.1.tar.gz /Library/Frameworks/R.framework/Resources/bin/R zellkonverter.buildbin-libdir StartedAt: 2024-04-15 10:58:33 -0400 (Mon, 15 Apr 2024) EndedAt: 2024-04-15 10:59:07 -0400 (Mon, 15 Apr 2024) EllapsedTime: 34.3 seconds RetCode: 0 Status: OK PackageFile: zellkonverter_1.12.1.tgz PackageFileSize: 1.206 MiB