Package: yamss Version: 1.28.0 Command: /Library/Frameworks/R.framework/Resources/bin/R CMD build --keep-empty-dirs --no-resave-data yamss StartedAt: 2024-04-17 04:54:22 -0400 (Wed, 17 Apr 2024) EndedAt: 2024-04-17 04:56:58 -0400 (Wed, 17 Apr 2024) EllapsedTime: 156.6 seconds RetCode: 0 Status: OK PackageFile: yamss_1.28.0.tar.gz PackageFileSize: 416.8 KiB