Back to Mac ARM64 build report for BioC 3.18 |
|
This page was generated on 2024-04-18 11:32:05 -0400 (Thu, 18 Apr 2024).
Hostname | OS | Arch (*) | R version | Installed pkgs |
---|---|---|---|---|
kjohnson1 | macOS 13.6.1 Ventura | arm64 | 4.3.3 (2024-02-29) -- "Angel Food Cake" | 4388 |
Click on any hostname to see more info about the system (e.g. compilers) (*) as reported by 'uname -p', except on Windows and Mac OS X |
To the developers/maintainers of the xcms package: - Use the following Renviron settings to reproduce errors and warnings. - If 'R CMD check' started to fail recently on the Linux builder(s) over a missing dependency, add the missing dependency to 'Suggests:' in your DESCRIPTION file. See Renviron.bioc for more information. |
Package 2250/2266 | Hostname | OS / Arch | INSTALL | BUILD | CHECK | BUILD BIN | ||||||||
xcms 4.0.2 (landing page) Steffen Neumann
| kjohnson1 | macOS 13.6.1 Ventura / arm64 | OK | OK | OK | NA | ||||||||
QUICK STATS | OS / Arch | INSTALL | BUILD | CHECK | BUILD BIN | |||||||||||||||||
kjohnson1 | macOS 13.6.1 Ventura / arm64 |
|
|
|
| |||||||||||||||||
Package 1/12 | Hostname | OS / Arch | INSTALL | BUILD | CHECK | BUILD BIN | ||||||||||||||||
CAMERA 1.58.0 (landing page) Steffen Neumann
| kjohnson1 | macOS 13.6.1 Ventura / arm64 | OK | OK | OK | OK | ||||||||||||||||
Package 2/12 | Hostname | OS / Arch | INSTALL | BUILD | CHECK | BUILD BIN | ||||||||||||||||
cliqueMS 1.16.0 (landing page) Oriol Senan Campos
| kjohnson1 | macOS 13.6.1 Ventura / arm64 | ERROR | ERROR | skipped | skipped | ||||||||||||||||
Package 3/12 | Hostname | OS / Arch | INSTALL | BUILD | CHECK | BUILD BIN | ||||||||||||||||
cosmiq 1.36.0 (landing page) David Fischer
| kjohnson1 | macOS 13.6.1 Ventura / arm64 | OK | OK | OK | OK | ||||||||||||||||
Package 4/12 | Hostname | OS / Arch | INSTALL | BUILD | CHECK | BUILD BIN | ||||||||||||||||
flagme 1.58.0 (landing page) Mark Robinson
| kjohnson1 | macOS 13.6.1 Ventura / arm64 | OK | OK | WARNINGS | OK | ||||||||||||||||
Package 5/12 | Hostname | OS / Arch | INSTALL | BUILD | CHECK | BUILD BIN | ||||||||||||||||
IPO 1.28.0 (landing page) Thomas Lieb
| kjohnson1 | macOS 13.6.1 Ventura / arm64 | OK | OK | OK | OK | ||||||||||||||||
Package 6/12 | Hostname | OS / Arch | INSTALL | BUILD | CHECK | BUILD BIN | ||||||||||||||||
LOBSTAHS 1.28.0 (landing page) Henry Holm
| kjohnson1 | macOS 13.6.1 Ventura / arm64 | OK | OK | WARNINGS | OK | ||||||||||||||||
Package 7/12 | Hostname | OS / Arch | INSTALL | BUILD | CHECK | BUILD BIN | ||||||||||||||||
MAIT 1.36.0 (landing page) Pol Sola-Santos
| kjohnson1 | macOS 13.6.1 Ventura / arm64 | OK | OK | OK | OK | ||||||||||||||||
Package 8/12 | Hostname | OS / Arch | INSTALL | BUILD | CHECK | BUILD BIN | ||||||||||||||||
Raphael Aggio
| kjohnson1 | macOS 13.6.1 Ventura / arm64 | OK | ERROR | skipped | skipped | ||||||||||||||||
Package 9/12 | Hostname | OS / Arch | INSTALL | BUILD | CHECK | BUILD BIN | ||||||||||||||||
metaMS 1.38.0 (landing page) Yann Guitton
| kjohnson1 | macOS 13.6.1 Ventura / arm64 | OK | OK | OK | OK | ||||||||||||||||
Package 10/12 | Hostname | OS / Arch | INSTALL | BUILD | CHECK | BUILD BIN | ||||||||||||||||
MobilityTransformR 1.6.0 (landing page) Liesa Salzer
| kjohnson1 | macOS 13.6.1 Ventura / arm64 | OK | OK | OK | OK | ||||||||||||||||
Package 11/12 | Hostname | OS / Arch | INSTALL | BUILD | CHECK | BUILD BIN | ||||||||||||||||
ncGTW 1.16.0 (landing page) Chiung-Ting Wu
| kjohnson1 | macOS 13.6.1 Ventura / arm64 | OK | OK | OK | OK | ||||||||||||||||
Package 12/12 | Hostname | OS / Arch | INSTALL | BUILD | CHECK | BUILD BIN | ||||||||||||||||
Risa 1.44.0 (landing page) Alejandra Gonzalez-Beltran
| kjohnson1 | macOS 13.6.1 Ventura / arm64 | OK | OK | OK | OK | ||||||||||||||||