Package: wppi Version: 1.10.0 Command: /Library/Frameworks/R.framework/Resources/bin/R CMD build --keep-empty-dirs --no-resave-data wppi StartedAt: 2024-04-17 04:51:23 -0400 (Wed, 17 Apr 2024) EndedAt: 2024-04-17 04:52:30 -0400 (Wed, 17 Apr 2024) EllapsedTime: 66.9 seconds RetCode: 0 Status: OK PackageFile: wppi_1.10.0.tar.gz PackageFileSize: 646.9 KiB