Package: wpm Version: 1.12.0 Command: /Library/Frameworks/R.framework/Resources/bin/R CMD build --keep-empty-dirs --no-resave-data wpm StartedAt: 2024-04-17 04:51:12 -0400 (Wed, 17 Apr 2024) EndedAt: 2024-04-17 04:51:34 -0400 (Wed, 17 Apr 2024) EllapsedTime: 22.8 seconds RetCode: 0 Status: OK PackageFile: wpm_1.12.0.tar.gz PackageFileSize: 2.428 MiB