Package: wiggleplotr Version: 1.26.0 Command: /Library/Frameworks/R.framework/Resources/bin/R CMD check --install=check:wiggleplotr.install-out.txt --library=/Library/Frameworks/R.framework/Resources/library --no-vignettes --timings wiggleplotr_1.26.0.tar.gz StartedAt: 2024-04-18 07:41:43 -0400 (Thu, 18 Apr 2024) EndedAt: 2024-04-18 07:44:35 -0400 (Thu, 18 Apr 2024) EllapsedTime: 172.9 seconds RetCode: 0 Status: OK CheckDir: wiggleplotr.Rcheck Warnings: 0