Package: wiggleplotr Version: 1.26.0 Command: /Library/Frameworks/R.framework/Resources/bin/R CMD build --keep-empty-dirs --no-resave-data wiggleplotr StartedAt: 2024-04-17 04:50:59 -0400 (Wed, 17 Apr 2024) EndedAt: 2024-04-17 04:51:45 -0400 (Wed, 17 Apr 2024) EllapsedTime: 45.5 seconds RetCode: 0 Status: OK PackageFile: wiggleplotr_1.26.0.tar.gz PackageFileSize: 407.8 KiB