Package: wiggleplotr Version: 1.26.0 Command: rm -rf wiggleplotr.buildbin-libdir && mkdir wiggleplotr.buildbin-libdir && /Users/biocbuild/BBS/utils/build-universal.sh wiggleplotr_1.26.0.tar.gz /Library/Frameworks/R.framework/Resources/bin/R wiggleplotr.buildbin-libdir StartedAt: 2024-04-15 10:57:09 -0400 (Mon, 15 Apr 2024) EndedAt: 2024-04-15 10:57:17 -0400 (Mon, 15 Apr 2024) EllapsedTime: 8.0 seconds RetCode: 0 Status: OK PackageFile: wiggleplotr_1.26.0.tgz PackageFileSize: 457.9 KiB