Package: weaver Version: 1.68.0 Command: /Library/Frameworks/R.framework/Resources/bin/R CMD build --keep-empty-dirs --no-resave-data weaver StartedAt: 2024-04-17 04:50:08 -0400 (Wed, 17 Apr 2024) EndedAt: 2024-04-17 04:50:16 -0400 (Wed, 17 Apr 2024) EllapsedTime: 8.7 seconds RetCode: 0 Status: OK PackageFile: weaver_1.68.0.tar.gz PackageFileSize: 231 KiB