Package: weaver Version: 1.68.0 Maintainer: Seth Falcon MaintainerEmail: seth at userprimary.net git_url: https://git.bioconductor.org/packages/weaver git_branch: RELEASE_3_18 git_last_commit: 707e643 git_last_commit_date: 2023-10-24 09:47:47 -0400 (Tue, 24 Oct 2023)