Package: vtpnet Version: 0.42.0 Command: /Library/Frameworks/R.framework/Resources/bin/R CMD INSTALL vtpnet StartedAt: 2024-04-16 13:05:25 -0400 (Tue, 16 Apr 2024) EndedAt: 2024-04-16 13:06:30 -0400 (Tue, 16 Apr 2024) EllapsedTime: 65.0 seconds RetCode: 0 Status: OK