Package: vtpnet Version: 0.42.0 Command: /Library/Frameworks/R.framework/Resources/bin/R CMD build --keep-empty-dirs --no-resave-data vtpnet StartedAt: 2024-04-17 04:48:02 -0400 (Wed, 17 Apr 2024) EndedAt: 2024-04-17 04:50:08 -0400 (Wed, 17 Apr 2024) EllapsedTime: 125.5 seconds RetCode: 0 Status: OK PackageFile: vtpnet_0.42.0.tar.gz PackageFileSize: 20.22 MiB