Package: vtpnet Version: 0.42.0 Command: rm -rf vtpnet.buildbin-libdir && mkdir vtpnet.buildbin-libdir && /Users/biocbuild/BBS/utils/build-universal.sh vtpnet_0.42.0.tar.gz /Library/Frameworks/R.framework/Resources/bin/R vtpnet.buildbin-libdir StartedAt: 2024-04-15 10:56:07 -0400 (Mon, 15 Apr 2024) EndedAt: 2024-04-15 10:57:15 -0400 (Mon, 15 Apr 2024) EllapsedTime: 68.8 seconds RetCode: 0 Status: OK PackageFile: vtpnet_0.42.0.tgz PackageFileSize: 20.24 MiB