Package: vsn Version: 3.70.0 Command: /Library/Frameworks/R.framework/Resources/bin/R CMD build --keep-empty-dirs --no-resave-data vsn StartedAt: 2024-04-17 04:46:53 -0400 (Wed, 17 Apr 2024) EndedAt: 2024-04-17 04:48:02 -0400 (Wed, 17 Apr 2024) EllapsedTime: 68.7 seconds RetCode: 0 Status: OK PackageFile: vsn_3.70.0.tar.gz PackageFileSize: 2.252 MiB