Package: vsn Version: 3.70.0 Command: rm -rf vsn.buildbin-libdir && mkdir vsn.buildbin-libdir && /Users/biocbuild/BBS/utils/build-universal.sh vsn_3.70.0.tar.gz /Library/Frameworks/R.framework/Resources/bin/R vsn.buildbin-libdir StartedAt: 2024-04-15 10:55:59 -0400 (Mon, 15 Apr 2024) EndedAt: 2024-04-15 10:56:16 -0400 (Mon, 15 Apr 2024) EllapsedTime: 17.0 seconds RetCode: 0 Status: OK PackageFile: vsn_3.70.0.tgz PackageFileSize: 2.501 MiB