Package: viper Version: 1.36.0 Command: /Library/Frameworks/R.framework/Resources/bin/R CMD build --keep-empty-dirs --no-resave-data viper StartedAt: 2024-04-17 04:41:51 -0400 (Wed, 17 Apr 2024) EndedAt: 2024-04-17 04:46:51 -0400 (Wed, 17 Apr 2024) EllapsedTime: 299.6 seconds RetCode: 0 Status: OK PackageFile: viper_1.36.0.tar.gz PackageFileSize: 503.4 KiB