Package: viper Version: 1.36.0 Maintainer: Mariano J Alvarez MaintainerEmail: reef103 at gmail.com git_url: https://git.bioconductor.org/packages/viper git_branch: RELEASE_3_18 git_last_commit: 5cf7edb git_last_commit_date: 2023-10-24 09:58:06 -0400 (Tue, 24 Oct 2023)