Package: uSORT Version: 1.28.0 Command: rm -rf uSORT.buildbin-libdir && mkdir uSORT.buildbin-libdir && /Users/biocbuild/BBS/utils/build-universal.sh uSORT_1.28.0.tar.gz /Library/Frameworks/R.framework/Resources/bin/R uSORT.buildbin-libdir StartedAt: 2024-04-15 10:53:20 -0400 (Mon, 15 Apr 2024) EndedAt: 2024-04-15 10:53:46 -0400 (Mon, 15 Apr 2024) EllapsedTime: 26.1 seconds RetCode: 0 Status: OK PackageFile: uSORT_1.28.0.tgz PackageFileSize: 1.971 MiB