Package: tximeta Version: 1.20.3 Command: /Library/Frameworks/R.framework/Resources/bin/R CMD build --keep-empty-dirs --no-resave-data tximeta StartedAt: 2024-04-17 04:27:50 -0400 (Wed, 17 Apr 2024) EndedAt: 2024-04-17 04:29:53 -0400 (Wed, 17 Apr 2024) EllapsedTime: 123.1 seconds RetCode: 0 Status: OK PackageFile: tximeta_1.20.3.tar.gz PackageFileSize: 1.606 MiB