Package: twoddpcr Version: 1.26.0 Command: rm -rf twoddpcr.buildbin-libdir && mkdir twoddpcr.buildbin-libdir && /Users/biocbuild/BBS/utils/build-universal.sh twoddpcr_1.26.0.tar.gz /Library/Frameworks/R.framework/Resources/bin/R twoddpcr.buildbin-libdir StartedAt: 2024-04-15 10:52:12 -0400 (Mon, 15 Apr 2024) EndedAt: 2024-04-15 10:52:30 -0400 (Mon, 15 Apr 2024) EllapsedTime: 18.4 seconds RetCode: 0 Status: OK PackageFile: twoddpcr_1.26.0.tgz PackageFileSize: 5.064 MiB