Package: twilight Version: 1.78.0 Command: rm -rf twilight.buildbin-libdir && mkdir twilight.buildbin-libdir && /Users/biocbuild/BBS/utils/build-universal.sh twilight_1.78.0.tar.gz /Library/Frameworks/R.framework/Resources/bin/R twilight.buildbin-libdir StartedAt: 2024-04-15 10:52:06 -0400 (Mon, 15 Apr 2024) EndedAt: 2024-04-15 10:52:18 -0400 (Mon, 15 Apr 2024) EllapsedTime: 11.5 seconds RetCode: 0 Status: OK PackageFile: twilight_1.78.0.tgz PackageFileSize: 1.218 MiB