Package: tripr Version: 1.8.0 Command: /Library/Frameworks/R.framework/Resources/bin/R CMD build --keep-empty-dirs --no-resave-data tripr StartedAt: 2024-04-17 04:22:35 -0400 (Wed, 17 Apr 2024) EndedAt: 2024-04-17 04:23:10 -0400 (Wed, 17 Apr 2024) EllapsedTime: 35.1 seconds RetCode: 0 Status: OK PackageFile: tripr_1.8.0.tar.gz PackageFileSize: 2.929 MiB