Package: tripr Version: 1.8.0 Command: rm -rf tripr.buildbin-libdir && mkdir tripr.buildbin-libdir && /Users/biocbuild/BBS/utils/build-universal.sh tripr_1.8.0.tar.gz /Library/Frameworks/R.framework/Resources/bin/R tripr.buildbin-libdir StartedAt: 2024-04-15 10:51:18 -0400 (Mon, 15 Apr 2024) EndedAt: 2024-04-15 10:51:51 -0400 (Mon, 15 Apr 2024) EllapsedTime: 33.0 seconds RetCode: 0 Status: OK PackageFile: tripr_1.8.0.tgz PackageFileSize: 4.006 MiB