Package: triplex Version: 1.42.0 Command: /Library/Frameworks/R.framework/Resources/bin/R CMD INSTALL triplex StartedAt: 2024-04-16 10:15:36 -0400 (Tue, 16 Apr 2024) EndedAt: 2024-04-16 10:15:57 -0400 (Tue, 16 Apr 2024) EllapsedTime: 20.9 seconds RetCode: 0 Status: OK