Package: trio Version: 3.40.0 Command: rm -rf trio.buildbin-libdir && mkdir trio.buildbin-libdir && /Users/biocbuild/BBS/utils/build-universal.sh trio_3.40.0.tar.gz /Library/Frameworks/R.framework/Resources/bin/R trio.buildbin-libdir StartedAt: 2024-04-15 10:51:04 -0400 (Mon, 15 Apr 2024) EndedAt: 2024-04-15 10:51:37 -0400 (Mon, 15 Apr 2024) EllapsedTime: 32.9 seconds RetCode: 0 Status: OK PackageFile: trio_3.40.0.tgz PackageFileSize: 1.602 MiB