Package: trena Version: 1.24.0 Command: /Library/Frameworks/R.framework/Resources/bin/R CMD build --keep-empty-dirs --no-resave-data trena StartedAt: 2024-04-17 04:19:46 -0400 (Wed, 17 Apr 2024) EndedAt: 2024-04-17 04:21:36 -0400 (Wed, 17 Apr 2024) EllapsedTime: 110.0 seconds RetCode: 0 Status: OK PackageFile: trena_1.24.0.tar.gz PackageFileSize: 6.913 MiB