Package: treeio Version: 1.26.0 Command: /Library/Frameworks/R.framework/Resources/bin/R CMD check --install=check:treeio.install-out.txt --library=/Library/Frameworks/R.framework/Resources/library --no-vignettes --timings treeio_1.26.0.tar.gz StartedAt: 2024-04-18 06:46:30 -0400 (Thu, 18 Apr 2024) EndedAt: 2024-04-18 06:47:37 -0400 (Thu, 18 Apr 2024) EllapsedTime: 67.8 seconds RetCode: 0 Status: OK CheckDir: treeio.Rcheck Warnings: 0