Package: tradeSeq Version: 1.16.0 Command: /Library/Frameworks/R.framework/Resources/bin/R CMD build --keep-empty-dirs --no-resave-data tradeSeq StartedAt: 2024-04-17 04:10:14 -0400 (Wed, 17 Apr 2024) EndedAt: 2024-04-17 04:19:50 -0400 (Wed, 17 Apr 2024) EllapsedTime: 575.2 seconds RetCode: 0 Status: OK PackageFile: tradeSeq_1.16.0.tar.gz PackageFileSize: 5.967 MiB