Package: tradeSeq Version: 1.16.0 Command: rm -rf tradeSeq.buildbin-libdir && mkdir tradeSeq.buildbin-libdir && /Users/biocbuild/BBS/utils/build-universal.sh tradeSeq_1.16.0.tar.gz /Library/Frameworks/R.framework/Resources/bin/R tradeSeq.buildbin-libdir StartedAt: 2024-04-15 10:49:05 -0400 (Mon, 15 Apr 2024) EndedAt: 2024-04-15 10:49:54 -0400 (Mon, 15 Apr 2024) EllapsedTime: 48.3 seconds RetCode: 0 Status: OK PackageFile: tradeSeq_1.16.0.tgz PackageFileSize: 5.53 MiB