Package: topGO Version: 2.54.0 Command: rm -rf topGO.buildbin-libdir && mkdir topGO.buildbin-libdir && /Users/biocbuild/BBS/utils/build-universal.sh topGO_2.54.0.tar.gz /Library/Frameworks/R.framework/Resources/bin/R topGO.buildbin-libdir StartedAt: 2024-04-15 10:48:35 -0400 (Mon, 15 Apr 2024) EndedAt: 2024-04-15 10:49:05 -0400 (Mon, 15 Apr 2024) EllapsedTime: 30.7 seconds RetCode: 0 Status: OK PackageFile: topGO_2.54.0.tgz PackageFileSize: 2.151 MiB