Package: tidybulk Version: 1.14.3 Command: /Library/Frameworks/R.framework/Resources/bin/R CMD check --install=check:tidybulk.install-out.txt --library=/Library/Frameworks/R.framework/Resources/library --no-vignettes --timings tidybulk_1.14.3.tar.gz StartedAt: 2024-04-18 06:15:07 -0400 (Thu, 18 Apr 2024) EndedAt: 2024-04-18 06:25:05 -0400 (Thu, 18 Apr 2024) EllapsedTime: 597.3 seconds RetCode: 0 Status: OK CheckDir: tidybulk.Rcheck Warnings: 0