Package: target Version: 1.16.0 Command: /Library/Frameworks/R.framework/Resources/bin/R CMD INSTALL target StartedAt: 2024-04-16 12:32:52 -0400 (Tue, 16 Apr 2024) EndedAt: 2024-04-16 12:33:06 -0400 (Tue, 16 Apr 2024) EllapsedTime: 14.3 seconds RetCode: 0 Status: OK