Package: tadar Version: 1.0.0 Command: /Library/Frameworks/R.framework/Resources/bin/R CMD check --install=check:tadar.install-out.txt --library=/Library/Frameworks/R.framework/Resources/library --no-vignettes --timings tadar_1.0.0.tar.gz StartedAt: 2024-04-18 05:55:44 -0400 (Thu, 18 Apr 2024) EndedAt: 2024-04-18 06:05:34 -0400 (Thu, 18 Apr 2024) EllapsedTime: 590.3 seconds RetCode: 1 Status: ERROR CheckDir: tadar.Rcheck Warnings: NA