Package: tadar Version: 1.0.0 Command: rm -rf tadar.buildbin-libdir && mkdir tadar.buildbin-libdir && /Users/biocbuild/BBS/utils/build-universal.sh tadar_1.0.0.tar.gz /Library/Frameworks/R.framework/Resources/bin/R tadar.buildbin-libdir StartedAt: 2024-04-15 10:43:59 -0400 (Mon, 15 Apr 2024) EndedAt: 2024-04-15 10:45:14 -0400 (Mon, 15 Apr 2024) EllapsedTime: 75.6 seconds RetCode: 0 Status: OK PackageFile: tadar_1.0.0.tgz PackageFileSize: 1.454 MiB