Package: tRNAscanImport Version: 1.22.0 Command: /Library/Frameworks/R.framework/Resources/bin/R CMD check --install=check:tRNAscanImport.install-out.txt --library=/Library/Frameworks/R.framework/Resources/library --no-vignettes --timings tRNAscanImport_1.22.0.tar.gz StartedAt: 2024-04-18 06:57:55 -0400 (Thu, 18 Apr 2024) EndedAt: 2024-04-18 07:03:41 -0400 (Thu, 18 Apr 2024) EllapsedTime: 346.0 seconds RetCode: 0 Status: OK CheckDir: tRNAscanImport.Rcheck Warnings: 0